BEGIN:VCALENDAR
VERSION:2.0
PRODID:-//NatureKidsBC - ECPv6.15.20//NONSGML v1.0//EN
CALSCALE:GREGORIAN
METHOD:PUBLISH
X-ORIGINAL-URL:https://naturekidsbc.ca
X-WR-CALDESC:Events for NatureKidsBC
REFRESH-INTERVAL;VALUE=DURATION:PT1H
X-Robots-Tag:noindex
X-PUBLISHED-TTL:PT1H
BEGIN:VTIMEZONE
TZID:America/Vancouver
BEGIN:DAYLIGHT
TZOFFSETFROM:-0800
TZOFFSETTO:-0700
TZNAME:PDT
DTSTART:20250309T100000
END:DAYLIGHT
BEGIN:STANDARD
TZOFFSETFROM:-0700
TZOFFSETTO:-0800
TZNAME:PST
DTSTART:20251102T090000
END:STANDARD
BEGIN:DAYLIGHT
TZOFFSETFROM:-0800
TZOFFSETTO:-0700
TZNAME:PDT
DTSTART:20260308T100000
END:DAYLIGHT
BEGIN:STANDARD
TZOFFSETFROM:-0700
TZOFFSETTO:-0800
TZNAME:PST
DTSTART:20261101T090000
END:STANDARD
BEGIN:DAYLIGHT
TZOFFSETFROM:-0800
TZOFFSETTO:-0700
TZNAME:PDT
DTSTART:20270314T100000
END:DAYLIGHT
BEGIN:STANDARD
TZOFFSETFROM:-0700
TZOFFSETTO:-0800
TZNAME:PST
DTSTART:20271107T090000
END:STANDARD
END:VTIMEZONE
BEGIN:VEVENT
DTSTART;TZID=America/Vancouver:20260607T080000
DTEND;TZID=America/Vancouver:20260607T170000
DTSTAMP:20260424T154313
CREATED:20260331T232632Z
LAST-MODIFIED:20260331T232632Z
UID:34124-1780819200-1780851600@naturekidsbc.ca
SUMMARY:Nelson - Archery with Liam Fitzpatrick from Circle of Indigenous Nations Society (COINS)
DESCRIPTION:Save the date\, more information to come.
URL:https://naturekidsbc.ca/explorer-day/nelson-archery-with-liam-fitzpatrick-from-circle-of-indigenous-nations-society-coins/
CATEGORIES:Explorer Days,Featured
ATTACH;FMTTYPE=image/png:https://eadn-wc02-5494031.nxedge.io/wp-content/uploads/2026/03/Explorer-Day-Tiles-for-website-4-2.png
END:VEVENT
BEGIN:VEVENT
DTSTART;TZID=America/Vancouver:20260612T173000
DTEND;TZID=America/Vancouver:20260612T183000
DTSTAMP:20260424T154313
CREATED:20260401T225001Z
LAST-MODIFIED:20260409T000320Z
UID:34158-1781285400-1781289000@naturekidsbc.ca
SUMMARY:VERNON - Nature Bingo and Family Connect
DESCRIPTION:Join us for a NatureBingo where we see how many nature items we can check off our bingo sheet! We will walk an easy trail down to the beach\, and if you would like\, bring some food and enjoy a picnic and play time at the beach afterward for some family connection with your club leaders and fellow members. \nAll ages are welcome. Please bring food and drink for your family; no food will be provided. The trail is stroller-friendly\, however it has an uphill climb afterwards. We will all meet in front of the informational signage at the main gate parking lot. \n\nWhere: Yellow Gate\, Kalamalka Provincial Park\nWhen: Friday\, June 12th @ 530 pm\nRegister by clicking here
URL:https://naturekidsbc.ca/explorer-day/vernon-nature-bingo-and-family-connect/
CATEGORIES:Explorer Days,Featured
ATTACH;FMTTYPE=image/png:https://eadn-wc02-5494031.nxedge.io/wp-content/uploads/2026/04/Explorer-Day-Tiles-for-website-6.png
END:VEVENT
BEGIN:VEVENT
DTSTART;TZID=America/Vancouver:20260613T100000
DTEND;TZID=America/Vancouver:20260613T120000
DTSTAMP:20260424T154313
CREATED:20260414T181512Z
LAST-MODIFIED:20260414T181512Z
UID:34328-1781344800-1781352000@naturekidsbc.ca
SUMMARY:SMITHERS- Native Plant Walk and Talk
DESCRIPTION:Join us for a day of connecting with and learning more about our local plants!\n\nThis event will take place at the Community Forest Nature Trail. https://www.bvnaturalists.ca/projects/community-forest-nature-trail/ \nParticipants can meet at 9:30 am at the Scotia Bank parking lot for those who want to carpool or follow in their own car\, to be sure of where to go to get to the Nordic Centre\, where the event will start at 10. \n\n\nSaturday June 13th\n10am – 12pm\nRegister here: https://www.eventbrite.ca/e/native-plant-walk-and-talk-tickets-1987027179784?aff=oddtdtcreator
URL:https://naturekidsbc.ca/explorer-day/smithers-native-plant-walk-and-talk/
CATEGORIES:Explorer Days,Featured
ATTACH;FMTTYPE=image/png:https://eadn-wc02-5494031.nxedge.io/wp-content/uploads/2026/04/Explorer-Day-Tiles-for-website-17.png
END:VEVENT
BEGIN:VEVENT
DTSTART;TZID=America/Vancouver:20260614T100000
DTEND;TZID=America/Vancouver:20260614T110000
DTSTAMP:20260424T154313
CREATED:20260407T165138Z
LAST-MODIFIED:20260407T165138Z
UID:34196-1781431200-1781434800@naturekidsbc.ca
SUMMARY:Nicomekl - Sealife Exploration
DESCRIPTION:June 14\, 10am\nCrescent Beach\nMeet in front of Beecher Place\, 12160 Beecher St. Surrey\nThis day will have an amazing low tide so we can explore deep into the intertidal! We will look for weird and wonderful invertebrates\, and fascinating fish. Please wear boots or shoes you don’t mind getting wet.  Flipflops do not work well for exploring the rocky shore.
URL:https://naturekidsbc.ca/explorer-day/nicomekl-sealife-exploration-2/
CATEGORIES:Explorer Days,Featured
ATTACH;FMTTYPE=image/png:https://eadn-wc02-5494031.nxedge.io/wp-content/uploads/2026/04/Explorer-Day-Tiles-for-website-9-1.png
END:VEVENT
BEGIN:VEVENT
DTSTART;TZID=America/Vancouver:20260614T140000
DTEND;TZID=America/Vancouver:20260614T150000
DTSTAMP:20260424T154313
CREATED:20260421T214243Z
LAST-MODIFIED:20260421T214243Z
UID:34440-1781445600-1781449200@naturekidsbc.ca
SUMMARY:MISSION- Geocaching Adventure!
DESCRIPTION:Join us for an easy hike through Heritage Park as we search for geocaches. \n\n\n\n\nPlease dress for the weather and bring along water and snacks for your family. \nWe will meet and circle up. Then we will head into the forest to look for several geocaches. \nLocation: Heritage Park\, Mission. Meet in front of the white gazebo. \nStart Time & End Time: 2-3pm on Sunday\, June 14. \nPlease note: \n-There is a washroom available near the Heritage Park parking lot. \n– Strollers are not recommended as some trails are too narrow or steep to accommodate strollers. \n-The walk will be approximately 2km \n– Parking is available in the lot off Mary St. \n– The nearest bus stop is on Stave Lake Street at 5A Ave. \nAnna Kirkpatrick is the Club Leader\, mission@naturekidsbc.ca \n\n\n\n\n\n\nRegister here: https://www.eventbrite.ca/e/geocaching-adventure-tickets-1987959290753?aff=oddtdtcreator
URL:https://naturekidsbc.ca/explorer-day/mission-geocaching-adventure/
CATEGORIES:Explorer Days,Featured
ATTACH;FMTTYPE=image/png:https://eadn-wc02-5494031.nxedge.io/wp-content/uploads/2026/04/Explorer-Day-Tiles-for-website-28.png
END:VEVENT
END:VCALENDAR