BEGIN:VCALENDAR
VERSION:2.0
PRODID:-//NatureKidsBC - ECPv6.15.20//NONSGML v1.0//EN
CALSCALE:GREGORIAN
METHOD:PUBLISH
X-ORIGINAL-URL:https://naturekidsbc.ca
X-WR-CALDESC:Events for NatureKidsBC
REFRESH-INTERVAL;VALUE=DURATION:PT1H
X-Robots-Tag:noindex
X-PUBLISHED-TTL:PT1H
BEGIN:VTIMEZONE
TZID:America/Vancouver
BEGIN:DAYLIGHT
TZOFFSETFROM:-0800
TZOFFSETTO:-0700
TZNAME:PDT
DTSTART:20250309T100000
END:DAYLIGHT
BEGIN:STANDARD
TZOFFSETFROM:-0700
TZOFFSETTO:-0800
TZNAME:PST
DTSTART:20251102T090000
END:STANDARD
BEGIN:DAYLIGHT
TZOFFSETFROM:-0800
TZOFFSETTO:-0700
TZNAME:PDT
DTSTART:20260308T100000
END:DAYLIGHT
BEGIN:STANDARD
TZOFFSETFROM:-0700
TZOFFSETTO:-0800
TZNAME:PST
DTSTART:20261101T090000
END:STANDARD
BEGIN:DAYLIGHT
TZOFFSETFROM:-0800
TZOFFSETTO:-0700
TZNAME:PDT
DTSTART:20270314T100000
END:DAYLIGHT
BEGIN:STANDARD
TZOFFSETFROM:-0700
TZOFFSETTO:-0800
TZNAME:PST
DTSTART:20271107T090000
END:STANDARD
END:VTIMEZONE
BEGIN:VEVENT
DTSTART;TZID=America/Vancouver:20260614T140000
DTEND;TZID=America/Vancouver:20260614T150000
DTSTAMP:20260424T183640
CREATED:20260421T214243Z
LAST-MODIFIED:20260421T214243Z
UID:34440-1781445600-1781449200@naturekidsbc.ca
SUMMARY:MISSION- Geocaching Adventure!
DESCRIPTION:Join us for an easy hike through Heritage Park as we search for geocaches. \n\n\n\n\nPlease dress for the weather and bring along water and snacks for your family. \nWe will meet and circle up. Then we will head into the forest to look for several geocaches. \nLocation: Heritage Park\, Mission. Meet in front of the white gazebo. \nStart Time & End Time: 2-3pm on Sunday\, June 14. \nPlease note: \n-There is a washroom available near the Heritage Park parking lot. \n– Strollers are not recommended as some trails are too narrow or steep to accommodate strollers. \n-The walk will be approximately 2km \n– Parking is available in the lot off Mary St. \n– The nearest bus stop is on Stave Lake Street at 5A Ave. \nAnna Kirkpatrick is the Club Leader\, mission@naturekidsbc.ca \n\n\n\n\n\n\nRegister here: https://www.eventbrite.ca/e/geocaching-adventure-tickets-1987959290753?aff=oddtdtcreator
URL:https://naturekidsbc.ca/explorer-day/mission-geocaching-adventure/
CATEGORIES:Explorer Days,Featured
ATTACH;FMTTYPE=image/png:https://eadn-wc02-5494031.nxedge.io/wp-content/uploads/2026/04/Explorer-Day-Tiles-for-website-28.png
END:VEVENT
END:VCALENDAR