BEGIN:VCALENDAR
VERSION:2.0
PRODID:-//NatureKidsBC - ECPv6.15.20//NONSGML v1.0//EN
CALSCALE:GREGORIAN
METHOD:PUBLISH
X-ORIGINAL-URL:https://naturekidsbc.ca
X-WR-CALDESC:Events for NatureKidsBC
REFRESH-INTERVAL;VALUE=DURATION:PT1H
X-Robots-Tag:noindex
X-PUBLISHED-TTL:PT1H
BEGIN:VTIMEZONE
TZID:America/Vancouver
BEGIN:DAYLIGHT
TZOFFSETFROM:-0800
TZOFFSETTO:-0700
TZNAME:PDT
DTSTART:20240310T100000
END:DAYLIGHT
BEGIN:STANDARD
TZOFFSETFROM:-0700
TZOFFSETTO:-0800
TZNAME:PST
DTSTART:20241103T090000
END:STANDARD
BEGIN:DAYLIGHT
TZOFFSETFROM:-0800
TZOFFSETTO:-0700
TZNAME:PDT
DTSTART:20250309T100000
END:DAYLIGHT
BEGIN:STANDARD
TZOFFSETFROM:-0700
TZOFFSETTO:-0800
TZNAME:PST
DTSTART:20251102T090000
END:STANDARD
BEGIN:DAYLIGHT
TZOFFSETFROM:-0800
TZOFFSETTO:-0700
TZNAME:PDT
DTSTART:20260308T100000
END:DAYLIGHT
BEGIN:STANDARD
TZOFFSETFROM:-0700
TZOFFSETTO:-0800
TZNAME:PST
DTSTART:20261101T090000
END:STANDARD
END:VTIMEZONE
BEGIN:VEVENT
DTSTART;TZID=America/Vancouver:20251004T083000
DTEND;TZID=America/Vancouver:20251004T100000
DTSTAMP:20260424T211140
CREATED:20250924T160411Z
LAST-MODIFIED:20251008T153503Z
UID:32527-1759566600-1759572000@naturekidsbc.ca
SUMMARY:RICHMOND - Iona Island Bird Observatory Visit
DESCRIPTION:Join WildResearch on a visit to the Iona Island Bird Observatory (IIBO) to see bird banding in action\, learn about bird migration\, and connect with nature through the lens of community science! \nWildResearch is a local charitable organization that builds\, educates\, and trains the community to contribute to conservation science. Their programs are run by biologists and volunteers who care deeply about conservation\, want to contribute meaningfully to science\, and educate the public about the importance of community science.  \nIona Beach Regional Park is a very special place for birds. It’s part of the Fraser River Estuary\, one of the most important stopovers on the Pacific Flyway—a migration route used by millions of birds traveling between their summer and winter homes. Here at the station\, WildResearch studies birds through bird banding. This means gently placing a tiny\, numbered band on a bird’s leg. Banding helps scientists track where birds go\, how long they live\, and how healthy their populations are. The information gathered is important for protecting birds and the ecosystems they depend on.  \nBy visiting\, you and your children are seeing science in action—and joining a community that helps keep nature thriving! \n \nBecome a NatureKids BC member for FREE today! \nClick here to register!
URL:https://naturekidsbc.ca/explorer-day/richmond-iona-island-bird-observatory-visit/
CATEGORIES:Previous Events
ATTACH;FMTTYPE=image/png:https://eadn-wc02-5494031.nxedge.io/wp-content/uploads/2025/09/Explorer-Day-Tiles-for-website-96.png
END:VEVENT
BEGIN:VEVENT
DTSTART;TZID=America/Vancouver:20251004T100000
DTEND;TZID=America/Vancouver:20251004T120000
DTSTAMP:20260424T211140
CREATED:20250924T162734Z
LAST-MODIFIED:20251008T153508Z
UID:32532-1759572000-1759579200@naturekidsbc.ca
SUMMARY:MERRIT - Earth Creations
DESCRIPTION:On Sunday October 4th\, we will have an ExplorerDay with Brooke Rankin\, co-owner of Earth and Soul Collections. Brooke will give us a tour of her garden\, introduce us to some of her favorite plants and we will all learn to make our own bath salts with herbs.
URL:https://naturekidsbc.ca/explorer-day/merrit-earth-creations/
CATEGORIES:Previous Events
ATTACH;FMTTYPE=image/jpeg:https://eadn-wc02-5494031.nxedge.io/wp-content/uploads/2025/09/White-and-Green-Illustrative-World-Forest-Day-Instagram-Post.jpg
END:VEVENT
BEGIN:VEVENT
DTSTART;TZID=America/Vancouver:20251004T110000
DTEND;TZID=America/Vancouver:20251004T123000
DTSTAMP:20260424T211140
CREATED:20250724T145855Z
LAST-MODIFIED:20251008T153514Z
UID:32092-1759575600-1759581000@naturekidsbc.ca
SUMMARY:VERNON - Private Tour at Allan Brooks Nature Centre
DESCRIPTION:Join us for an exclusive private guided tour through the stunning grassland ecosystem at Allan Brooks Nature Centre in Vernon. Led by one of their expert interpreters\, families with children aged 5–12 will enjoy:A gentle\, educational walk along the gravel Grasslands Trail\, uncovering the secrets of native plants and wildlife adapted to Vernon’s dry\, sun-swept hills.Hands‑on discovery in the Interpretive Centre\, including interactive displays in the Discovery and Habitat rooms\, perfect for curious young minds.Amazing views from the hilltop vantage point overlooking Kalamalka\, Okanagan\, and Swan Lakes\, plus spotting birds\, marmots\, and other Okanagan wildlife.After the tour you will have time to explore the Centre by yourself. See the naturescape gardens\, visit the sundial\, relax at scenic benches\, or enjoy a picnic in their covered area. \nThis event is FREE for all Nature Kids BC members. Siblings and friends are welcome too! \nWe can’t wait to explore with you! \nClick here to register!
URL:https://naturekidsbc.ca/explorer-day/vernon-private-tour-at-allan-brooks-nature-centre/
CATEGORIES:Previous Events
ATTACH;FMTTYPE=image/png:https://eadn-wc02-5494031.nxedge.io/wp-content/uploads/2025/05/Explorer-Day-Tiles-for-website-59-1.png
END:VEVENT
BEGIN:VEVENT
DTSTART;TZID=America/Vancouver:20251004T120000
DTEND;TZID=America/Vancouver:20251004T150000
DTSTAMP:20260424T211140
CREATED:20250924T203415Z
LAST-MODIFIED:20251008T153521Z
UID:32537-1759579200-1759590000@naturekidsbc.ca
SUMMARY:NatureKids 25th Anniversary Celebration
DESCRIPTION:We are thrilled to invite you to our 25th anniversary celebration hosted at the Surrey Nature House in Metro Vancouver! This event is to thank YOU and provide you with an opportunity to meet families and volunteers from across our network. We recognize that our community stretches far across this province and that only some of you will be able to attend. If you are in Metro Vancouver\, mark Saturday\, October 4th from 12-3pm on your calendars and sign up to join us! \nClick here to register! 
URL:https://naturekidsbc.ca/explorer-day/naturekids-25th-anniversary-celebration/
CATEGORIES:Previous Events
ATTACH;FMTTYPE=image/png:https://eadn-wc02-5494031.nxedge.io/wp-content/uploads/2025/09/Explorer-Day-Tiles-for-website-97.png
END:VEVENT
BEGIN:VEVENT
DTSTART;TZID=America/Vancouver:20251005T090000
DTEND;TZID=America/Vancouver:20251005T110000
DTSTAMP:20260424T211140
CREATED:20250919T155709Z
LAST-MODIFIED:20251008T153527Z
UID:32520-1759654800-1759662000@naturekidsbc.ca
SUMMARY:SALT SPRING - The mysteries of migration!
DESCRIPTION:Family Birding is a great way to explore the wonderful sounds and colours in nature as the seasons progress. Observing together\, children and parents can discover bird species and observe their calls and behaviours. \nOn Sunday\, October 5\, Nature Salt Spring will hold a special outing at Xwaaqw’um (Bugoyne Provincial Park) designed for you and your kids\, NatureKids\, to feel the passion of birding. It’s an interesting time of year\, as some birds are beginning to migrate away while many others will be arriving to brighten our gloomy winter days.  \nWalking for 2 to 3 kilometres we will seek out birds of the forest\, open spaces\, and in the bay.  We’ll give tips on how to use binoculars successfully\, and touch on the marvelous birding app\, Merlin. You will leave with greater confidence in how to see more birds on your own at almost any time of the year!  \nWhen: Meet Kathleen\, on Sunday\, October 5\, at 9:00 – 11am   \nWhere: At the cultural circle above the lower parking lot in Xwaaqw’um \nWhat to bring: warm footwear\, binoculars\, a hat \nWe do have three pairs of binoculars for children. Of course\, binoculars are not at all essential! We do have three pairs of binoculars for children. Of course\, binoculars are not at all essential! \nRegister: with Kathleen\, khmaser@shaw.ca \nBeing a member of NatureKids is a requirement. \nhttps://naturekidsbc.ca/join-us/memberships-slidingscale/
URL:https://naturekidsbc.ca/explorer-day/salt-spring-the-mysteries-of-migration/
CATEGORIES:Previous Events
ATTACH;FMTTYPE=image/png:https://eadn-wc02-5494031.nxedge.io/wp-content/uploads/2025/09/Explorer-Day-Tiles-for-website-95.png
END:VEVENT
BEGIN:VEVENT
DTSTART;TZID=America/Vancouver:20251005T093000
DTEND;TZID=America/Vancouver:20251005T120000
DTSTAMP:20260424T211140
CREATED:20250925T205706Z
LAST-MODIFIED:20251008T153534Z
UID:32543-1759656600-1759665600@naturekidsbc.ca
SUMMARY:TRICITIES - Reifel Bird Sanctuary Tour
DESCRIPTION:Come join us for a guided walk at the Reifel Bird Sanctuary! We will visit the museum and have a guided tour where we will talk about biodiversity\, adaptations\, habitats and bird identification.  I highly recommend downloading the  Merlin bird identification app created by Cornell  Labs\, it is an excellent way to identify bird calls.   Also\, this activity is best suited for children ages 5 and up. We anticipate the event being 2 hours in duration.   Meeting time: 9:45 am (please arrive early to check in\, as the tour will start at 10 am)Date: Sunday\, October 5thLocation: 5191 Robertson Rd\, Delta\, BC  (we will meet in front of the main entrance\, adjacent to the parking lot) Website: https://www.reifelbirdsanctuary.com/“The George C. Reifel Migratory Bird Sanctuary consists of nearly 300 hectares (850 acres) of managed wetlands\, natural marshes and low dykes in the heart of the Fraser River Estuary. For the millions of birds seeking feeding and resting areas during their annual migrations along the Pacific Coast\, the Sanctuary is ideally located. It is a place where wildlife and their habitats are protected from harm\, and it lies next to miles of flat marshland and the farmland of Westham Island.” What should I bring?  Water bottle\, and dress for the weather (the trails can be muddy)\,  rain gear if needed (we go rain or shine) and proper footwear Washrooms are available near the entrance. Please reserve your spot by responding to this email\, space is limited to 30 participants.  In your email reservation please indicate how many adults and children attending. \nhttps://naturekidsbc.ca/join-us/memberships-slidingscale/
URL:https://naturekidsbc.ca/explorer-day/tricities-reifel-bird-sanctuary-tour/
CATEGORIES:Previous Events
ATTACH;FMTTYPE=image/png:https://eadn-wc02-5494031.nxedge.io/wp-content/uploads/2025/04/Explorer-Day-Tiles-for-website-49.png
END:VEVENT
BEGIN:VEVENT
DTSTART;TZID=America/Vancouver:20251011T093000
DTEND;TZID=America/Vancouver:20251011T113000
DTSTAMP:20260424T211140
CREATED:20250910T144758Z
LAST-MODIFIED:20251009T200743Z
UID:32475-1760175000-1760182200@naturekidsbc.ca
SUMMARY:COMOX - Halloween Nature Walk & Pumpkin Carving
DESCRIPTION:Dress up in a Halloween costume and join us for a short nature walk followed by a pumpkin carving contest! \nEach family will get a pumpkin to carve – bonus points if your pumpkin carving is inspired by nature! \nWe will meet at the playground area at Puntledge Park. \nThere are washrooms and parking on site and the trail is stroller friendly. \nClick here to register!
URL:https://naturekidsbc.ca/explorer-day/comox-halloween-nature-walk-pumpkin-carving/
CATEGORIES:Previous Events
ATTACH;FMTTYPE=image/png:https://eadn-wc02-5494031.nxedge.io/wp-content/uploads/2025/09/Explorer-Day-Tiles-for-website-90.png
END:VEVENT
BEGIN:VEVENT
DTSTART;TZID=America/Vancouver:20251018T100000
DTEND;TZID=America/Vancouver:20251018T113000
DTSTAMP:20260424T211140
CREATED:20250903T165358Z
LAST-MODIFIED:20251018T185745Z
UID:32451-1760781600-1760787000@naturekidsbc.ca
SUMMARY:NORTH VANCOUVER - Signs of Fall
DESCRIPTION:Check out the signs of fall in Capilano Canyon! \nWe’ll go on a walk starting at the fish hatchery\, watch the salmon\, visit giant trees\, and check out fall mushrooms! Bring your nature guidebooks! \nThis walk has some flat and some steep areas\, with many gravel trails. \nClick here to register! 
URL:https://naturekidsbc.ca/explorer-day/north-vancouver-signs-of-fall/
CATEGORIES:Previous Events
ATTACH;FMTTYPE=image/png:https://eadn-wc02-5494031.nxedge.io/wp-content/uploads/2025/09/Explorer-Day-Tiles-for-website-87.png
END:VEVENT
BEGIN:VEVENT
DTSTART;TZID=America/Vancouver:20251018T100000
DTEND;TZID=America/Vancouver:20251018T120000
DTSTAMP:20260424T211140
CREATED:20250905T170521Z
LAST-MODIFIED:20251018T185753Z
UID:32468-1760781600-1760788800@naturekidsbc.ca
SUMMARY:SMITHERS - Wetland Walk
DESCRIPTION:Join Smithers NatureKids for a Wetland Walk on the Tyler family property at 4479 Gelley Rd – Kathlyn Creek which empties Lake Kathlyn. \nWe’ll explore the creek and wetland along it. Then have a fire pit lunch (& Smores) from noon until 1 pm for those who want to stay. \nWe’ll see plants\, insects\, fish\, and if we are lucky we might see beavers who have dams and lodges along the creek. \nFlush toilet available in the carport; parking around the driveway and on gravel edges and grass. \nClick here to register! 
URL:https://naturekidsbc.ca/explorer-day/smithers-wetland-walk/
CATEGORIES:Previous Events
ATTACH;FMTTYPE=image/png:https://eadn-wc02-5494031.nxedge.io/wp-content/uploads/2025/06/Explorer-Day-Tiles-for-website-67.png
END:VEVENT
BEGIN:VEVENT
DTSTART;TZID=America/Vancouver:20251018T110000
DTEND;TZID=America/Vancouver:20251018T130000
DTSTAMP:20260424T211140
CREATED:20251008T162020Z
LAST-MODIFIED:20251018T185801Z
UID:32587-1760785200-1760792400@naturekidsbc.ca
SUMMARY:DELTA - Ivy & Cake
DESCRIPTION:We’re heading back to North Delta again to the same area where we’ve been exploring stream health. This time\, we’re going to pull up the invasive ivy along the trail next to the stream. We’ll be joined by our mentor\, Deborah Jones from the Cougar Creek Streamkeepers\, who will bring gloves in all sizes and everything else we need.  We’ll also be celebrating NatureKids 25th anniversary with cake. So come hungry! Date: Saturday\, October 18\, 2025Time: 11:00am – 1:00pm (please arrive 10 minutes early to fill out the consent form)Sign up here.
URL:https://naturekidsbc.ca/explorer-day/delta-ivy-cake/
CATEGORIES:Previous Events
ATTACH;FMTTYPE=image/png:https://eadn-wc02-5494031.nxedge.io/wp-content/uploads/2025/09/Explorer-Day-Tiles-for-website-97.png
END:VEVENT
BEGIN:VEVENT
DTSTART;TZID=America/Vancouver:20251018T130000
DTEND;TZID=America/Vancouver:20251018T150000
DTSTAMP:20260424T211140
CREATED:20250919T152116Z
LAST-MODIFIED:20251021T143135Z
UID:32516-1760792400-1760799600@naturekidsbc.ca
SUMMARY:PRINCE GEORGE - Fantastic Fall
DESCRIPTION:Join Prince George NatureKids for a fun fall explorer day! Make new friends\, have fun and nature\, enjoy a nature scavenger hunt and create leaf art! \nThere are washrooms and parking onsite. Make sure to dress for the weather and wear comfortable walking shoes. \n*We will meet at the parking lot next to the train museum \nThis event is for NatureKids BC families with children ages 5-12\, younger and older siblings are welcome to join as well. Become a FREE member today! \nClick here to register! 
URL:https://naturekidsbc.ca/explorer-day/prince-george-fantastic-fall/
CATEGORIES:Previous Events
ATTACH;FMTTYPE=image/png:https://eadn-wc02-5494031.nxedge.io/wp-content/uploads/2025/08/Explorer-Day-Tiles-for-website-6.png
END:VEVENT
BEGIN:VEVENT
DTSTART;TZID=America/Vancouver:20251019T130000
DTEND;TZID=America/Vancouver:20251019T153000
DTSTAMP:20260424T211140
CREATED:20251003T145047Z
LAST-MODIFIED:20251021T143141Z
UID:32581-1760878800-1760887800@naturekidsbc.ca
SUMMARY:EAST VANCOUVER - Habitat Stewards
DESCRIPTION:Join us for a fun nature walk and clean-up at Renfrew Ravine Park! We’ll help keep the creek and trails healthy during our exploration\, learn about nature and its relation to solid waste reduction\, and discuss how we can support sustainable habits as a community with the Metrovancouver Solid Waste Management Plan update. \nWe will meet inside the lobby of the Renfrew Community Centre\, which has a parking lot on-site and access to washrooms. \nClick here to register! \nDate and time: Oct 19\, 2025\, 1 pm – 3:30 pm  \nLocation: Renfrew Ravine Park\, 3900 Renfrew St\, Vancouver\, BC V5M 2Y2 \nRemember to bring a water bottle\, proper footwear\, and dress for the weather (rain or shine)  \nA light lunch and snacks will be provided by us\, along with equipment for the clean-up!
URL:https://naturekidsbc.ca/explorer-day/east-vancouver-habitat-stewards/
CATEGORIES:Previous Events
ATTACH;FMTTYPE=image/png:https://eadn-wc02-5494031.nxedge.io/wp-content/uploads/2025/10/Explorer-Day-Tiles-for-website-100.png
END:VEVENT
BEGIN:VEVENT
DTSTART;TZID=America/Vancouver:20251019T133000
DTEND;TZID=America/Vancouver:20251019T153000
DTSTAMP:20260424T211140
CREATED:20251011T141707Z
LAST-MODIFIED:20251021T143146Z
UID:32613-1760880600-1760887800@naturekidsbc.ca
SUMMARY:NELSON - Autumn Mushroom Walk
DESCRIPTION:This October\, our Explorer Day is all about mushrooms\, the hidden treasures of the forest floor! We’re thrilled to invite you to join local mushroom enthusiast Rob Stacey\, who has been foraging in the Kootenays for over 30 years. Together\, we’ll wander through the autumn woods to search for and identify different kinds of local mushrooms\, learning useful tips\, fun facts\, and fascinating information along the way. \nWhether you’re a curious beginner or a seasoned forager\, this walk is the perfect way to soak in autumn’s beauty\, connect with nature\, and learn together.  \nCome join us for a guided fall mushroom walk where we’ll: Explore the forest trails Learn fun and fascinating facts about local fungi Identify different mushroom species together \nIt’s a wonderful opportunity to connect with nature\, ask questions\, and enjoy the beauty of autumn in the woods. \nEvent Details:When: Sunday\, October 19\, 2025Where: Krestova ParkTime: 1:30 PM – 3:30 PM \n(More details about parking and what to bring will be provided after sign-up.) \nSign up here: https://forms.gle/zCN8v92yHfAopxR86 \nThis event is free for all NatureKids BC members.Non-members are welcome to attend if space allows — please email nelson@naturekidsbc.ca to inquire.
URL:https://naturekidsbc.ca/explorer-day/nelson-autumn-mushroom-walk/
CATEGORIES:Previous Events
ATTACH;FMTTYPE=image/png:https://eadn-wc02-5494031.nxedge.io/wp-content/uploads/2025/10/Explorer-Day-Tiles-for-website-87.png
END:VEVENT
BEGIN:VEVENT
DTSTART;TZID=America/Vancouver:20251022T100000
DTEND;TZID=America/Vancouver:20251022T120000
DTSTAMP:20260424T211140
CREATED:20251002T004447Z
LAST-MODIFIED:20251021T143153Z
UID:32560-1761127200-1761134400@naturekidsbc.ca
SUMMARY:WESTSHORE - Mushroom Foray
DESCRIPTION: October Mushroom Foray–NatureKids Explorer Day  \nDate: Wednesday\, October 22\, 2025 \nTime: 10:00 AM\, please arrive 10 mins early \n Location: Blinkhorn Nature Park (1194 Kangaroo Rd\, Metchosin) \nJoin us for a guided mushroom foray in one of Metchosin’s richest fungal habitats. We’ll learn about (and strengthen!) our skills in spotting and identifying wild mushrooms in the forest. Come join us to explore the wonderful world of fall mushrooms—from gills to mycelium! \nHosted by NatureKids BC Westshore Club\, with nature mentors Kem Luther and Andy MacKinnon. \nThis event is open to all NatureKids BC members—joining is free and includes access to Explorer Days\, NatureWILD magazine\, a Nature Passport\, and other family nature perks!
URL:https://naturekidsbc.ca/explorer-day/westshore-mushroom-foray/
CATEGORIES:Previous Events
ATTACH;FMTTYPE=image/png:https://eadn-wc02-5494031.nxedge.io/wp-content/uploads/2025/09/Explorer-Day-Tiles-for-website-87-1.png
END:VEVENT
BEGIN:VEVENT
DTSTART;TZID=America/Vancouver:20251023T110000
DTEND;TZID=America/Vancouver:20251023T123000
DTSTAMP:20260424T211140
CREATED:20251008T184108Z
LAST-MODIFIED:20251023T190652Z
UID:32598-1761217200-1761222600@naturekidsbc.ca
SUMMARY:WILDROOTS - Tynehead Hatchery Tour
DESCRIPTION:Get a tour of the Tynehead Hatchery and a chance to check out what happens at the hatchery from checking on eggs\, the fry\, the water temperature\, and all the other checks to ensure these salmon have the best change of making it in the wild and return to us in the years to come! Please bring water\, a snack\, and weather appropriate clothing. RSVP: https://forms.gle/LX8DRQjeJdP8VLwa7*Registration is limited and available on a first come\, first serve basis. All confirmed registrants will receive an email confirmation prior to the event. Accessibility: Location is accessible by transit and car with a parking lot. Wheelchair-accessible entrance\, toilets\, picnic tables\, and trails. Please message me if you have questions or concerns.
URL:https://naturekidsbc.ca/explorer-day/wildroots-tynehead-hatchery-tour/
CATEGORIES:Previous Events
ATTACH;FMTTYPE=image/png:https://eadn-wc02-5494031.nxedge.io/wp-content/uploads/2025/10/Explorer-Day-Tiles-for-website-99.png
END:VEVENT
BEGIN:VEVENT
DTSTART;TZID=America/Vancouver:20251025T130000
DTEND;TZID=America/Vancouver:20251025T143000
DTSTAMP:20260424T211140
CREATED:20250926T151158Z
LAST-MODIFIED:20251106T153409Z
UID:32547-1761397200-1761402600@naturekidsbc.ca
SUMMARY:KELOWNA - Exploring Nature Through the Senses
DESCRIPTION:Join us for a fun and mindful outdoor adventure where kids will explore nature using all five senses! During this interactive session\, nature mentor Kaitlyn Adams will guide children in connecting with the natural world by smelling plants\, touching textures\, listening to the sounds around them\, and more. We’ll take time to reflect and share our experiences as a group\, helping kids build deeper connections with nature. Come dressed for the weather and ready to explore! \nClick here to register! 
URL:https://naturekidsbc.ca/explorer-day/kelowna-exploring-nature-through-the-senses/
CATEGORIES:Previous Events
ATTACH;FMTTYPE=image/png:https://eadn-wc02-5494031.nxedge.io/wp-content/uploads/2025/09/Explorer-Day-Tiles-for-website-98.png
END:VEVENT
BEGIN:VEVENT
DTSTART;TZID=America/Vancouver:20251025T130000
DTEND;TZID=America/Vancouver:20251025T150000
DTSTAMP:20260424T211140
CREATED:20251002T162129Z
LAST-MODIFIED:20251106T153415Z
UID:32567-1761397200-1761404400@naturekidsbc.ca
SUMMARY:RIDGE MEADOWS - Splashing Salmon
DESCRIPTION:Experience the sights and sounds of splashing salmon! \nVisit the Kanaka Creek Fish Fence to witness the fall migration of thousands of spawning salmon and learn about their amazing journey from the Fraser River\, to the ocean and back again. \nK.E.E.P.S staff will lead us through a discussion about this keystone species and the important role of the hatchery. \nClick here to register! 
URL:https://naturekidsbc.ca/explorer-day/ridge-meadows-splashing-salmon/
CATEGORIES:Previous Events
ATTACH;FMTTYPE=image/png:https://eadn-wc02-5494031.nxedge.io/wp-content/uploads/2025/10/Explorer-Day-Tiles-for-website-99.png
END:VEVENT
BEGIN:VEVENT
DTSTART;TZID=America/Vancouver:20251025T130000
DTEND;TZID=America/Vancouver:20251025T150000
DTSTAMP:20260424T211140
CREATED:20251018T151226Z
LAST-MODIFIED:20251106T153421Z
UID:32646-1761397200-1761404400@naturekidsbc.ca
SUMMARY:TEXADA - WildSafe Rangers
DESCRIPTION:
URL:https://naturekidsbc.ca/explorer-day/texada-wildsafe-rangers/
CATEGORIES:Previous Events
ATTACH;FMTTYPE=image/png:https://eadn-wc02-5494031.nxedge.io/wp-content/uploads/2025/08/Explorer-Day-Tiles-for-website-84-1.png
END:VEVENT
BEGIN:VEVENT
DTSTART;TZID=America/Vancouver:20251025T180000
DTEND;TZID=America/Vancouver:20251025T193000
DTSTAMP:20260424T211140
CREATED:20251015T151112Z
LAST-MODIFIED:20251106T153427Z
UID:32621-1761415200-1761420600@naturekidsbc.ca
SUMMARY:HOUSTON - All about Bats
DESCRIPTION:Join Houston NatureKids at the Buck Creek Hatchery and Nature Centre to learn all about bats!  \nCome learn about these amazing creatures of the night and enjoy some batty games and activities. Saturday\, October 25th at 6:00pm.  To join in email houston@naturekidsbc.ca 
URL:https://naturekidsbc.ca/explorer-day/houston-all-about-bats/
CATEGORIES:Previous Events
ATTACH;FMTTYPE=image/png:https://eadn-wc02-5494031.nxedge.io/wp-content/uploads/2025/09/Explorer-Day-Tiles-for-website-88.png
END:VEVENT
BEGIN:VEVENT
DTSTART;TZID=America/Vancouver:20251026T100000
DTEND;TZID=America/Vancouver:20251026T120000
DTSTAMP:20260424T211140
CREATED:20251003T142733Z
LAST-MODIFIED:20251106T153433Z
UID:32578-1761472800-1761480000@naturekidsbc.ca
SUMMARY:VANCOUVER - Halloween Bat-Tastic Morning
DESCRIPTION:On Sunday\, October 26th\, from 10:00 a.m. to 12:00 p.m. Come and celebrate Bat Week with us and have a Halloween Bat-Tastic Morning.  \nMentor Danielle Dagenais will teach us everything we need to know about bats.  \nIn our first hour\, we will enjoy a bat story followed by a discussion of bat habitat and the importance of these amazing creatures. \nWe will end our Explorer Day with games\, fun activities and more! \nBat costumes encouraged! \nREGISTER HERE. 
URL:https://naturekidsbc.ca/explorer-day/vancouver-halloween-bat-tastic-morning/
CATEGORIES:Previous Events
ATTACH;FMTTYPE=image/png:https://eadn-wc02-5494031.nxedge.io/wp-content/uploads/2025/09/Explorer-Day-Tiles-for-website-88.png
END:VEVENT
BEGIN:VEVENT
DTSTART;TZID=America/Vancouver:20251026T100000
DTEND;TZID=America/Vancouver:20251026T120000
DTSTAMP:20260424T211140
CREATED:20251008T183304Z
LAST-MODIFIED:20251106T153439Z
UID:32595-1761472800-1761480000@naturekidsbc.ca
SUMMARY:WHISTLER - Fantastic Fungi
DESCRIPTION:Our next Explorer Day will be “Fantastic Fungi” on Sunday\, October 26\, location TBD. Sign-in will start at 9:45 am\, and the program will run from 10:00 am to 12:00 pm. We’ll explore the vital roles of fungi in healthy ecosystems\, as decomposers and as partners to live trees (mycorrhizal fungi). Registration opens on Friday (October 10) at 8 am. After this time\, please send us an email at whistler@naturekidsbc.ca letting us know: \n\nName and ages of children whom you’d like to register – children must be 5 – 12 years old\nNames of parents/guardian(s) who you’d like to register – a reminder that this program is for families\, so at least one parent/guardian must also attend
URL:https://naturekidsbc.ca/explorer-day/whistler-fantastic-fungi/
CATEGORIES:Previous Events
ATTACH;FMTTYPE=image/png:https://eadn-wc02-5494031.nxedge.io/wp-content/uploads/2025/09/Explorer-Day-Tiles-for-website-87-1.png
END:VEVENT
BEGIN:VEVENT
DTSTART;TZID=America/Vancouver:20251026T173000
DTEND;TZID=America/Vancouver:20251026T190000
DTSTAMP:20260424T211140
CREATED:20250903T191954Z
LAST-MODIFIED:20251106T153556Z
UID:32456-1761499800-1761505200@naturekidsbc.ca
SUMMARY:MISSION - Bat Walk
DESCRIPTION:Join NatureKids and a mentor from BC Bats for as we celebrate Bat Week with an evening bat walk! Location: Silverdale WetlandsWe will meet near the entrance off Silverdale Ave.Please park on Silverdale Ave.There is no washroom on site. Bring headlamps or flashlights. \nClick here to register! 
URL:https://naturekidsbc.ca/explorer-day/mission-bat-walk/
CATEGORIES:Previous Events
ATTACH;FMTTYPE=image/png:https://eadn-wc02-5494031.nxedge.io/wp-content/uploads/2025/09/Explorer-Day-Tiles-for-website-88.png
END:VEVENT
BEGIN:VEVENT
DTSTART;TZID=America/Vancouver:20251029T153000
DTEND;TZID=America/Vancouver:20251029T164500
DTSTAMP:20260424T211140
CREATED:20250806T153620Z
LAST-MODIFIED:20251106T153602Z
UID:32147-1761751800-1761756300@naturekidsbc.ca
SUMMARY:SOUTH OKANAGAN - Mindful Art Studio in Nature
DESCRIPTION:Join South Okanagan NatureKids for a fun family nature sketching and journaling. No art skills experience is necessary\, just an open mind to learn and play. Each session\, we will focus on Mindful practice with Art and Nature. Using the ” Artist Activists” lens to build an eco-awareness perspective with local resources.  Bring snacks and a yoga mat for your whole family. Meeting other families for social connection. All sessions will take place entirely outdoors\, with meet-up locations rotating according to the activities and weather. Our central meeting points include the Japanese Garden\, Mountain Springs Nature Retreat\, and local Parks. \nTo join in reach out to Maggie at southokanagan@naturekidsbc.ca
URL:https://naturekidsbc.ca/explorer-day/south-okanagan-mindful-art-studio-in-nature-2/
CATEGORIES:Previous Events
ATTACH;FMTTYPE=image/png:https://eadn-wc02-5494031.nxedge.io/wp-content/uploads/2025/03/Explorer-Day-Tiles-for-website-24.png
END:VEVENT
END:VCALENDAR