BEGIN:VCALENDAR
VERSION:2.0
PRODID:-//NatureKidsBC - ECPv6.15.20//NONSGML v1.0//EN
CALSCALE:GREGORIAN
METHOD:PUBLISH
X-WR-CALNAME:NatureKidsBC
X-ORIGINAL-URL:https://naturekidsbc.ca
X-WR-CALDESC:Events for NatureKidsBC
REFRESH-INTERVAL;VALUE=DURATION:PT1H
X-Robots-Tag:noindex
X-PUBLISHED-TTL:PT1H
BEGIN:VTIMEZONE
TZID:America/Vancouver
BEGIN:DAYLIGHT
TZOFFSETFROM:-0800
TZOFFSETTO:-0700
TZNAME:PDT
DTSTART:20240310T100000
END:DAYLIGHT
BEGIN:STANDARD
TZOFFSETFROM:-0700
TZOFFSETTO:-0800
TZNAME:PST
DTSTART:20241103T090000
END:STANDARD
BEGIN:DAYLIGHT
TZOFFSETFROM:-0800
TZOFFSETTO:-0700
TZNAME:PDT
DTSTART:20250309T100000
END:DAYLIGHT
BEGIN:STANDARD
TZOFFSETFROM:-0700
TZOFFSETTO:-0800
TZNAME:PST
DTSTART:20251102T090000
END:STANDARD
BEGIN:DAYLIGHT
TZOFFSETFROM:-0800
TZOFFSETTO:-0700
TZNAME:PDT
DTSTART:20260308T100000
END:DAYLIGHT
BEGIN:STANDARD
TZOFFSETFROM:-0700
TZOFFSETTO:-0800
TZNAME:PST
DTSTART:20261101T090000
END:STANDARD
END:VTIMEZONE
BEGIN:VEVENT
DTSTART;TZID=America/Vancouver:20251102T130000
DTEND;TZID=America/Vancouver:20251102T150000
DTSTAMP:20260424T195432
CREATED:20251021T151705Z
LAST-MODIFIED:20251106T153608Z
UID:32656-1762088400-1762095600@naturekidsbc.ca
SUMMARY:DELTA - Reifel Bird Sanctuary Tour
DESCRIPTION:  \nJoin us for a free guided tour of the Reifel Bird Sanctuary! We’ll explore the trails and wetlands with a knowledgeable guide who will help us spot some of the amazing migratory birds that visit this protected area in the fall. The trails are flat and wide so suitable for everyone\, and there are toilets on site. \nSign up is now open for our next Explorer Day.
URL:https://naturekidsbc.ca/explorer-day/delta-reifel-bird-sanctuary-tour/
CATEGORIES:Previous Events
ATTACH;FMTTYPE=image/png:https://eadn-wc02-5494031.nxedge.io/wp-content/uploads/2025/09/Explorer-Day-Tiles-for-website-49.png
END:VEVENT
BEGIN:VEVENT
DTSTART;TZID=America/Vancouver:20251102T133000
DTEND;TZID=America/Vancouver:20251102T150000
DTSTAMP:20260424T195432
CREATED:20251021T152330Z
LAST-MODIFIED:20251106T153615Z
UID:32659-1762090200-1762095600@naturekidsbc.ca
SUMMARY:VANCOUVER - Discovering Bryophytes
DESCRIPTION:Hello Vancouver Families: Ever wonder about all that greenery covering logs\, tree trunks\, and rocks? Join us at Cypress Falls in West Vancouver on Sunday\, Nov. 2\, 1:30 to 3:00 PM to explore the world of Bryophytes (mosses\, liverworts\, hornworts) with bryologist and Nature Mentor Connor Wardrop. We’ll learn all about how these fascinating plants live their lives without roots or vascular systems! We’ll also have a Scavenger Hunt to find 10 common bryophytes (and maybe some uncommon ones)\, and we’ll view a few specimens under magnification.  \nFun fact: Bryophytes have been on the planet for over 450 million years!! \n  \nRegister here.
URL:https://naturekidsbc.ca/explorer-day/vancouver-discovering-bryophytes/
CATEGORIES:Previous Events
ATTACH;FMTTYPE=image/png:https://eadn-wc02-5494031.nxedge.io/wp-content/uploads/2025/10/Explorer-Day-Tiles-for-website-3.png
END:VEVENT
BEGIN:VEVENT
DTSTART;TZID=America/Vancouver:20251109T100000
DTEND;TZID=America/Vancouver:20251109T110000
DTSTAMP:20260424T195432
CREATED:20251106T201044Z
LAST-MODIFIED:20251112T161055Z
UID:32691-1762682400-1762686000@naturekidsbc.ca
SUMMARY:VERNON - Autumn Adventure at Thomas Hayes trail
DESCRIPTION:Join Vernon NatureKids for a fun autumn adventure at Thomas Hayes trail! \nJoin Vernon NatureKids for a cozy fall morning at Thomas Hayes Ecological Reserve! \n📅 Date: Saturday\, November 9 \n🕙 Time: 10:00–11:30 a.m. \n📍 Location: 1249 Thomas Hayes Rd\, Armstrong\, BC V4Y 0N7 (meet at the trailhead parking area) \n🌿 What to expect \nGentle stretch + quick name game to warm up \nShort\, kid-friendly nature walk to collect colourful autumn leaves \nTwo simple crafts (all materials provided) \nWe’ll be making Leaf buddies & Mason-jar lanterns with LED tea lights \nClick here to register! 
URL:https://naturekidsbc.ca/explorer-day/vernon-autumn-adventure-at-thomas-hayes-trail/
CATEGORIES:Previous Events
ATTACH;FMTTYPE=image/png:https://eadn-wc02-5494031.nxedge.io/wp-content/uploads/2025/10/Explorer-Day-Tiles-for-website-2.png
END:VEVENT
BEGIN:VEVENT
DTSTART;TZID=America/Vancouver:20251109T150000
DTEND;TZID=America/Vancouver:20251109T160000
DTSTAMP:20260424T195432
CREATED:20251106T170707Z
LAST-MODIFIED:20251112T161103Z
UID:32688-1762700400-1762704000@naturekidsbc.ca
SUMMARY:MISSION - Autumn Art
DESCRIPTION:Autumn Art \nFraser River Heritage Park  \nSunday November 9\, 3-4pm \nJoin us as we make nature art inspired by the colours\, shapes and textures of autumn. \nPlease dress for the weather and bring a bag or basket for collecting nature items. \nThere is a washroom available near the Heritage Park parking lot. \nThis is a stroller-friendly event as we will be on or near paved paths at all times. \nParking is available in the lot off Mary St. \nThe nearest bus stop is on Stave Lake Street at 5A Ave. \nTo register\, please email mission@naturekidsbc.ca and include the number of adults and kids who will be attending.
URL:https://naturekidsbc.ca/explorer-day/mission-autumn-art/
CATEGORIES:Previous Events
ATTACH;FMTTYPE=image/png:https://eadn-wc02-5494031.nxedge.io/wp-content/uploads/2025/10/Explorer-Day-Tiles-for-website-2.png
END:VEVENT
BEGIN:VEVENT
DTSTART;TZID=America/Vancouver:20251115T100000
DTEND;TZID=America/Vancouver:20251115T120000
DTSTAMP:20260424T195432
CREATED:20251015T145031Z
LAST-MODIFIED:20251119T152139Z
UID:32617-1763200800-1763208000@naturekidsbc.ca
SUMMARY:MERRITT - Gingers Trail Hike
DESCRIPTION:Our next NatureKids event will be on Saturday November 15th. We will be going for a hike up Gingers Trail\, just outside of Merritt off the old connector hwy. Here is a link to the location: Gingers Trail Hiking Trail – Merritt\, British Columbia. We will meet at the parking area for 10am. Please pack warm layers and plenty of snacks.  Let us know if you plan on joining us by emailing merritt@naturekidsbc.ca! Should be a great morning for a fall hike. 
URL:https://naturekidsbc.ca/explorer-day/merritt-gingers-trail-hike/
CATEGORIES:Previous Events
ATTACH;FMTTYPE=image/png:https://eadn-wc02-5494031.nxedge.io/wp-content/uploads/2025/08/Explorer-Day-Tiles-for-website-48-2.png
END:VEVENT
BEGIN:VEVENT
DTSTART;TZID=America/Vancouver:20251116T130000
DTEND;TZID=America/Vancouver:20251116T150000
DTSTAMP:20260424T195432
CREATED:20251008T181851Z
LAST-MODIFIED:20251119T152147Z
UID:32591-1763298000-1763305200@naturekidsbc.ca
SUMMARY:NICOMEKL - Reifel Bird Sanctuary Tour
DESCRIPTION:We will be going to Reifel Bird Sanctuary to see what ducks have migrated in for the winter and feed the ducks that are there year round as well! Date: Sunday\, November 16\, 2025Time:  1 pm-3pm Where to meet: George C. Reifel Migratory Bird Sanctuary\, 5191 Robertson Rd. Delta\, BC V4K 0A4 We will meet by the entrance to the Sanctuary.  The fees will be paid by Nature Canada! What to bring:  Dress for the weather\, this is a rain or shine event.  Bring water bottles and snacks as needed.  \nTo join in email nicomekl@naturekidsbc.ca \n 
URL:https://naturekidsbc.ca/explorer-day/nicomekl-reifel-bird-sanctuary-tour/
CATEGORIES:Previous Events
ATTACH;FMTTYPE=image/png:https://eadn-wc02-5494031.nxedge.io/wp-content/uploads/2025/09/Explorer-Day-Tiles-for-website-49.png
END:VEVENT
BEGIN:VEVENT
DTSTART;TZID=America/Vancouver:20251122T100000
DTEND;TZID=America/Vancouver:20251122T103000
DTSTAMP:20260424T195432
CREATED:20251016T161031Z
LAST-MODIFIED:20251122T185648Z
UID:32630-1763805600-1763807400@naturekidsbc.ca
SUMMARY:VIRTUAL - Avalanche & Winter Awareness
DESCRIPTION:Join NatureKids BC and Avalanche Canada for a winter inspired virtual explorer day! \nJoin in for Avalanche Canada’s Youth Programming delivered by a local avalanche professional! This interactive winter safety program includes high-energy videos\, interactive content\, and open discussions. Empowering youth with avalanche and winter awareness supports learning and safety while promoting a healthy outdoor lifestyle! \nClick here to register! \n 
URL:https://naturekidsbc.ca/explorer-day/virtual-avalanche-winter-awareness/
CATEGORIES:Previous Events
ATTACH;FMTTYPE=image/png:https://eadn-wc02-5494031.nxedge.io/wp-content/uploads/2025/10/Explorer-Day-Tiles-for-website-1-1.png
END:VEVENT
BEGIN:VEVENT
DTSTART;TZID=America/Vancouver:20251122T100000
DTEND;TZID=America/Vancouver:20251122T110000
DTSTAMP:20260424T195432
CREATED:20251018T141909Z
LAST-MODIFIED:20251122T185656Z
UID:32641-1763805600-1763809200@naturekidsbc.ca
SUMMARY:SQUAMISH - Autumn Adventure
DESCRIPTION:Join us for a cozy fall morning exploring nature together! \nWhat to expect: \n– gentle stretch and ice breaker \n– a short hike through the park to collect colorful autumn leaves. \n– enjoy a fruit picnic — please bring your favorite fruits to share! 🍎🍇🍐 \n📍 Location: Rose Park\, Squamish \n🕙 Time: 10:00 – 11:00 a.m. \n📅 Date: November 15th \n👟 What to bring: \nA small basket or bag for leaf collecting \nwater bottle \nFruits for our picnic \nComfortable clothes and shoes for walking \nLet’s celebrate the beauty of fall together! \nClick here to register! \n🌲 Learning\, laughter\, and connection in nature.
URL:https://naturekidsbc.ca/explorer-day/squamish-autumn-adventure/
CATEGORIES:Previous Events
ATTACH;FMTTYPE=image/png:https://eadn-wc02-5494031.nxedge.io/wp-content/uploads/2025/10/Explorer-Day-Tiles-for-website-2.png
END:VEVENT
BEGIN:VEVENT
DTSTART;TZID=America/Vancouver:20251122T140000
DTEND;TZID=America/Vancouver:20251122T153000
DTSTAMP:20260424T195432
CREATED:20251107T174655Z
LAST-MODIFIED:20251122T185703Z
UID:32709-1763820000-1763825400@naturekidsbc.ca
SUMMARY:SURREY - Birds by the Beach
DESCRIPTION:Join Surrey NatureKids to walk along the White Rock Pier and Promenade to spot birds in the ocean and on the beach. \nLet’s spot overwintering birds by the beach \nPromenade and Pier Walk \nDate: Saturday\, Nov 22nd\, 2025 \nTime: 2pm to 3:30 pm \nMeeting Location: White Rock Pier –click here for location map \nJoin Surrey NatureKids to walk along the White Rock Pier and Promenade to spot birds in the ocean and on the beach. Approximately 135\,000 waterbirds (which includes seabirds\, waterfowl\, and shorebirds) overwinter in the Fraser River Delta area of the Lower Mainland in an average year. Around White Rock beach we have a chance to see loons\, grebes\, cormorants\, sea ducks\, gulls\, and shorebirds among others. Join us for a fun morning by the ocean! \nWashrooms available on-site. \nClick here to register! \n 
URL:https://naturekidsbc.ca/explorer-day/surrey-birds-by-the-beach/
CATEGORIES:Previous Events
ATTACH;FMTTYPE=image/png:https://eadn-wc02-5494031.nxedge.io/wp-content/uploads/2025/11/Explorer-Day-Tiles-for-website-9.png
END:VEVENT
BEGIN:VEVENT
DTSTART;TZID=America/Vancouver:20251123T100000
DTEND;TZID=America/Vancouver:20251123T120000
DTSTAMP:20260424T195432
CREATED:20251107T155106Z
LAST-MODIFIED:20251124T155901Z
UID:32699-1763892000-1763899200@naturekidsbc.ca
SUMMARY:WHISTLER - Winter Wildlife
DESCRIPTION:Our next Explorer Day will be “Winter Wildlife” on Sunday\, November 23\, at Florence Petersen Park (behind the library). Sign-in will start at 9:45 am\, and the program will run from 10:00 am to 12:00 pm. We’ll explore how different animals survive winter in various ways. Registration opens on Friday (November 7) at 8 am. After this time\, please send us an email at whistler@naturekidsbc.ca letting us know: \n\nName and ages of children whom you’d like to register – children must be 5 – 12 years old\nNames of parents/guardian(s) who you’d like to register – a reminder that this program is for families\, so at least one parent/guardian must also attend\n\nMore information will be sent out to those who register. \n 
URL:https://naturekidsbc.ca/explorer-day/whistler-winter-wildlife/
CATEGORIES:Previous Events
ATTACH;FMTTYPE=image/png:https://eadn-wc02-5494031.nxedge.io/wp-content/uploads/2025/11/Explorer-Day-Tiles-for-website-7.png
END:VEVENT
BEGIN:VEVENT
DTSTART;TZID=America/Vancouver:20251123T133000
DTEND;TZID=America/Vancouver:20251123T153000
DTSTAMP:20260424T195432
CREATED:20251107T162646Z
LAST-MODIFIED:20251124T155911Z
UID:32704-1763904600-1763911800@naturekidsbc.ca
SUMMARY:SALT SPRING - The Wonderful Ways of Water
DESCRIPTION:This month’s NatureKids Explorer Day will have you and your kids building dams\,canals\, and waterways\, maybe even creating waterfalls and wetlands! \nWhat is the big deal about water? Where is the water coming from? Where does it go?Is water important? How does nature handle too much water? Do plants play a role?We’ll briefly discuss water molecules\, the water cycle\, ground water versus surfacewater\, introduce the Blue Ecology water cycle then look for evidence of meandering\,scouring and pooling. \nThe plan is to cover a fair distance\, about a kilometre\, observing the ways of watermoving downhill before arriving at the work area. That’s where the construction and funwill be. Of course\, the return journey will be uphill\, but it’s not too steep. \nWhat to bring: A sand box shovel or garden trowel\, small digger (if you wish). We’llsource out other tools if necessary\, from the forest. \nWhat to wear: Boots\, warm layers\, rain/mud pants\, or if it’s really raining\, the full rainsuit \nWhen: Sunday afternoon\, Nov. 23\, from 1:30 to 3:30 \nWhere: Lower Channel Ridge. Meet at Broadwell and Tern where parking is easy.Gather at the mailboxes. \nRegister with Kathleen\, at khmaser@shaw.ca and make sure you are a member ofNatureKidsBC which again is free this year!  \n 
URL:https://naturekidsbc.ca/explorer-day/salt-spring-the-wonderful-ways-of-water/
CATEGORIES:Previous Events
ATTACH;FMTTYPE=image/png:https://eadn-wc02-5494031.nxedge.io/wp-content/uploads/2025/11/Explorer-Day-Tiles-for-website-8.png
END:VEVENT
BEGIN:VEVENT
DTSTART;TZID=America/Vancouver:20251126T153000
DTEND;TZID=America/Vancouver:20251126T164500
DTSTAMP:20260424T195432
CREATED:20250806T153758Z
LAST-MODIFIED:20251202T144720Z
UID:32149-1764171000-1764175500@naturekidsbc.ca
SUMMARY:SOUTH OKANAGAN - Mindful Art Studio in Nature
DESCRIPTION:Join South Okanagan NatureKids for a fun family nature sketching and journaling. No art skills experience is necessary\, just an open mind to learn and play. Each session\, we will focus on Mindful practice with Art and Nature. Using the ” Artist Activists” lens to build an eco-awareness perspective with local resources.  Bring snacks and a yoga mat for your whole family. Meeting other families for social connection. All sessions will take place entirely outdoors\, with meet-up locations rotating according to the activities and weather. Our central meeting points include the Japanese Garden\, Mountain Springs Nature Retreat\, and local Parks. \nTo join in reach out to Maggie at southokanagan@naturekidsbc.ca
URL:https://naturekidsbc.ca/explorer-day/south-okanagan-mindful-art-studio-in-nature-3/
CATEGORIES:Previous Events
ATTACH;FMTTYPE=image/png:https://eadn-wc02-5494031.nxedge.io/wp-content/uploads/2025/03/Explorer-Day-Tiles-for-website-24.png
END:VEVENT
BEGIN:VEVENT
DTSTART;TZID=America/Vancouver:20251129T093000
DTEND;TZID=America/Vancouver:20251129T113000
DTSTAMP:20260424T195432
CREATED:20251106T215119Z
LAST-MODIFIED:20251202T144726Z
UID:32694-1764408600-1764415800@naturekidsbc.ca
SUMMARY:DELTA - Birds at the Beach
DESCRIPTION:We’re going on a special birding walk at Centennial Beach! We’ll be joining the Delta Naturalists for a walk led by Anne Murray\, author of the book\, A Nature Guide to Boundary Bay. They’ll help us spot and learn about the amazing birds that spend the winter along Boundary Bay. Click here to register!   \n 
URL:https://naturekidsbc.ca/explorer-day/delta-birds-at-the-beach/
CATEGORIES:Previous Events
ATTACH;FMTTYPE=image/png:https://eadn-wc02-5494031.nxedge.io/wp-content/uploads/2025/11/Explorer-Day-Tiles-for-website-6.png
END:VEVENT
BEGIN:VEVENT
DTSTART;TZID=America/Vancouver:20251130T103000
DTEND;TZID=America/Vancouver:20251130T123000
DTSTAMP:20260424T195432
CREATED:20251023T153047Z
LAST-MODIFIED:20251202T144732Z
UID:32673-1764498600-1764505800@naturekidsbc.ca
SUMMARY:LILLOOET - Animals Love Trees
DESCRIPTION:    \n 
URL:https://naturekidsbc.ca/explorer-day/lillooet-animals-love-trees/
CATEGORIES:Previous Events
ATTACH;FMTTYPE=image/png:https://eadn-wc02-5494031.nxedge.io/wp-content/uploads/2025/10/Explorer-Day-Tiles-for-website-2.png
END:VEVENT
BEGIN:VEVENT
DTSTART;TZID=America/Vancouver:20251130T130000
DTEND;TZID=America/Vancouver:20251130T150000
DTSTAMP:20260424T195432
CREATED:20251015T151832Z
LAST-MODIFIED:20251202T144737Z
UID:32624-1764507600-1764514800@naturekidsbc.ca
SUMMARY:HOUSTON - Eco-Friendly Christmas Crafts
DESCRIPTION:Join Houston NatureKids at the Buck Creek Hatchery and Nature Centre to make some Christmasy crafts with upcycled materials and learn how to reduce your impact on planet Earth this holiday season!  Sunday\, November 30th at 1:00pm To join in email houston@naturekidsbc.ca    \n 
URL:https://naturekidsbc.ca/explorer-day/houston-eco-friendly-christmas-crafts/
CATEGORIES:Previous Events
ATTACH;FMTTYPE=image/png:https://eadn-wc02-5494031.nxedge.io/wp-content/uploads/2025/10/Explorer-Day-Tiles-for-website.png
END:VEVENT
BEGIN:VEVENT
DTSTART;TZID=America/Vancouver:20251130T130000
DTEND;TZID=America/Vancouver:20251130T150000
DTSTAMP:20260424T195432
CREATED:20251119T173723Z
LAST-MODIFIED:20251202T144743Z
UID:32750-1764507600-1764514800@naturekidsbc.ca
SUMMARY:NELSON - Wayfinding & Flames
DESCRIPTION:We’re excited to invite you to a special Nelson Nature Kids Explorer Day: Wayfinding and Flames featuring Elemental Journeys! \nCome spend an afternoon together learning basic navigation and fire-building skills. Rooted in coyote mentoring\, bushcraft\, and elemental wisdom\, this hands-on workshop will guide kids through connection-based learning using sharing circles\, games\, play\, and storytelling. \nWhen: Sunday\, November 30th\, 2025Time: 1:00–3:00 PMWhere: Taghum Beach Regional Park (near Nelson\, BC)What to Bring: Footwear and layers for all weather\, water\, and snacks \nSign up here: \nhttps://forms.gle/8LpdHHwZCVkECc4D6 \nThis Explorer Day is free for members of NatureKids BC. Non members may attend if there is space. For kids ages 5-12 and their families. You can Invite new club members here: nelson@naturekidsbc.ca.  \nAbout the Facilitator this month: \nAndrea Fox is an outdoor educator and certified nature based therapy guide with Elemental Journeys. They offer youth programs\, adult wilderness retreats\, and one-on-one counselling sessions in the area of Nelson BC.   \n    \n 
URL:https://naturekidsbc.ca/explorer-day/nelson-wayfinding-flames/
CATEGORIES:Previous Events
ATTACH;FMTTYPE=image/png:https://eadn-wc02-5494031.nxedge.io/wp-content/uploads/2025/11/Explorer-Day-Tiles-for-website-13.png
END:VEVENT
END:VCALENDAR