BEGIN:VCALENDAR
VERSION:2.0
PRODID:-//NatureKidsBC - ECPv6.15.20//NONSGML v1.0//EN
CALSCALE:GREGORIAN
METHOD:PUBLISH
X-WR-CALNAME:NatureKidsBC
X-ORIGINAL-URL:https://naturekidsbc.ca
X-WR-CALDESC:Events for NatureKidsBC
REFRESH-INTERVAL;VALUE=DURATION:PT1H
X-Robots-Tag:noindex
X-PUBLISHED-TTL:PT1H
BEGIN:VTIMEZONE
TZID:America/Vancouver
BEGIN:DAYLIGHT
TZOFFSETFROM:-0800
TZOFFSETTO:-0700
TZNAME:PDT
DTSTART:20250309T100000
END:DAYLIGHT
BEGIN:STANDARD
TZOFFSETFROM:-0700
TZOFFSETTO:-0800
TZNAME:PST
DTSTART:20251102T090000
END:STANDARD
BEGIN:DAYLIGHT
TZOFFSETFROM:-0800
TZOFFSETTO:-0700
TZNAME:PDT
DTSTART:20260308T100000
END:DAYLIGHT
BEGIN:STANDARD
TZOFFSETFROM:-0700
TZOFFSETTO:-0800
TZNAME:PST
DTSTART:20261101T090000
END:STANDARD
BEGIN:DAYLIGHT
TZOFFSETFROM:-0800
TZOFFSETTO:-0700
TZNAME:PDT
DTSTART:20270314T100000
END:DAYLIGHT
BEGIN:STANDARD
TZOFFSETFROM:-0700
TZOFFSETTO:-0800
TZNAME:PST
DTSTART:20271107T090000
END:STANDARD
END:VTIMEZONE
BEGIN:VEVENT
DTSTART;TZID=America/Vancouver:20260201T123000
DTEND;TZID=America/Vancouver:20260201T133000
DTSTAMP:20260424T154113
CREATED:20251211T180444Z
LAST-MODIFIED:20260203T183616Z
UID:32860-1769949000-1769952600@naturekidsbc.ca
SUMMARY:NICOMEKL - World Wetlands Walk
DESCRIPTION: Celebrate our wetlands!  Starting at the Upper Hall\, our easy Naturekids walk will take you alongside the Little Campbell River.  Then check out all the World Wetland Day booths and exhibits! To register email nicomekl@naturekidsbc.ca
URL:https://naturekidsbc.ca/explorer-day/nicomekl-world-wetlands-walk/
CATEGORIES:Previous Events
ATTACH;FMTTYPE=image/png:https://eadn-wc02-5494031.nxedge.io/wp-content/uploads/2025/09/Explorer-Day-Tiles-for-website-67-1.png
END:VEVENT
BEGIN:VEVENT
DTSTART;TZID=America/Vancouver:20260207T153000
DTEND;TZID=America/Vancouver:20260207T163000
DTSTAMP:20260424T154113
CREATED:20260122T164254Z
LAST-MODIFIED:20260210T163333Z
UID:32994-1770478200-1770481800@naturekidsbc.ca
SUMMARY:VERNON - Twilight Forest Walk
DESCRIPTION:Join Vernon NatureKids for a magical walk through the forest. \n\n\n\n\nCome and join us for a casual Twilight walk through the forest!\nWe will wander the forest trails at an easy pace\, keep our senses tuned in\, and enjoy the little suprises along the way\, including the tiny fairy houses and trinkets people have lovingly left behind. \nThis will be a relaxed\, family-friendly stroll. We will pause to listen for birds\, notice tracks and textures\, and share simple nature observations as we go. \nCome as you are and enjoy a calm evening outside. \n\nLocation: \nCarlson Park \nPlease let us know you are coming by registering through this link. \n  \n 
URL:https://naturekidsbc.ca/explorer-day/vernon-twilight-forest-walk/
CATEGORIES:Previous Events
ATTACH;FMTTYPE=image/png:https://eadn-wc02-5494031.nxedge.io/wp-content/uploads/2026/01/Explorer-Day-Tiles-for-website-11.png
END:VEVENT
BEGIN:VEVENT
DTSTART;TZID=America/Vancouver:20260208T090000
DTEND;TZID=America/Vancouver:20260208T230000
DTSTAMP:20260424T154113
CREATED:20260127T190329Z
LAST-MODIFIED:20260210T163351Z
UID:33037-1770541200-1770591600@naturekidsbc.ca
SUMMARY:VICTORIA - Outerbridge Nature Park Explore
DESCRIPTION:On February 8\, from 9 to11 AM\, we’ll meet up with our friends from Rocky Point Bird Observatory (RPBO) at Outerbridge Nature Park in Saanich. Here\, we can spot colorful birds\, listen to their songs\, and discover tiny creatures hiding in the bushes—all while enjoying a peaceful walk together. So\, grab your binoculars\, put on your walking shoes\, and bring the whole family for a morning of bird-spotting and nature fun. \nRegister HERE. \nOuterbridge Park is a little nature treasure tucked into the city—gardens\, ponds\, and winding trails make it the perfect playground for curious kids. Long ago\, Mrs. Outerbridge created this special place to welcome birds\, wildlife\, and people who love nature. Locals used to call it the “Shangri-La Bird and Nature Sanctuary.” In 2005\, the park became a public space\, and families have been exploring it ever since. More information about the park can be found here. \nThis event will be part of Rocky Point Bird Observatory’s free\, guided bird walks that are offered the second Sunday of each month. RPBO is proud to continue Mrs. Outerbridge’s dream: a place where kids and grown-ups alike can fall in love with birds and the natural world. \nDate and Time: Sunday\, February 8\, from 9 to 11 AM. \nLocation: Outerbridge Park entrance is adjacent to 1181 Royal Oak Drive. Here is the Google map link. You can find transit directions here as well. \nMeeting location: The parking lot off of Royal Oak Drive. \nWhat to bring: Binocs if you have them. Water and a snack. A camera or notebook to record your discoveries. \nWhat to wear. Dress for the weather\, wear shoes that you don’t mind getting a bit wet or dirty. \nWeather: We will go in light rain\, but this Explorer Day will be canceled in heavy rain. \nCANCELLATION: If you register and know in advance that you are unable to make it\, please notify us at victoria@naturekidsbc.ca. We understand that busy families often cannot make it at the last minute. \n LIABILITY WAIVER: Please read the attached Liability Waiver that you will be asked to sign upon arrival at the Explorer Day. \nPHOTOS: At the beginning of the Explorer Day\, you will be asked if you consent to have photos taken of your child/children. These photos may be used by NatureKids BC. Your choice does not impact your ability to participate fully in this Explorer Day event. \nPlease arrive 5 minutes early to sign our waiver form. We plan to start promptly at 9:00 a.m.
URL:https://naturekidsbc.ca/explorer-day/outerbridge-nature-park-explore/
CATEGORIES:Previous Events
ATTACH;FMTTYPE=image/png:https://eadn-wc02-5494031.nxedge.io/wp-content/uploads/2026/01/Explorer-Day-Tiles-for-website-3-3.png
END:VEVENT
BEGIN:VEVENT
DTSTART;TZID=America/Vancouver:20260208T100000
DTEND;TZID=America/Vancouver:20260208T110000
DTSTAMP:20260424T154113
CREATED:20260109T215406Z
LAST-MODIFIED:20260210T163408Z
UID:32950-1770544800-1770548400@naturekidsbc.ca
SUMMARY:TRICITIES - Winter Scavenger Hunt
DESCRIPTION:Join TriCities NatureKids for a fun winter scavenger hunt! \nObserve nature in winter with a fun scavenger hunt! \nEverything will be super accessible as the trail is wide\, flat and short enough in length for everyone to enjoy. Participants will be using iNaturalist (adults) and iSeek (kids) apps to complete the scavenger hunt. Alternatively\, there can/will be printed sheets available to complete the activity. \nClick here to register! \n 
URL:https://naturekidsbc.ca/explorer-day/tricities-winter-scavenger-hunt/
CATEGORIES:Previous Events
ATTACH;FMTTYPE=image/png:https://eadn-wc02-5494031.nxedge.io/wp-content/uploads/2025/12/Explorer-Day-Tiles-for-website-70.png
END:VEVENT
BEGIN:VEVENT
DTSTART;TZID=America/Vancouver:20260221T130000
DTEND;TZID=America/Vancouver:20260221T143000
DTSTAMP:20260424T154113
CREATED:20260212T175458Z
LAST-MODIFIED:20260224T030635Z
UID:33126-1771678800-1771684200@naturekidsbc.ca
SUMMARY:RICHMOND- Family Shoreline Cleanup
DESCRIPTION:Join us for a meaningful and hands-on Explorer Day as we care for our local shoreline and look for early signs of spring! \nFamilies will participate in a guided shoreline cleanup\, helping protect wildlife and keep our beaches clean. If time allows\, we’ll also enjoy a short nature walk to spot birds\, plants\, and seasonal changes around the park. \nLocation: Garry Point Park\, Richmond \nDate: Saturday\, February 21 \nTime: 1:00 PM – 2:30 PM \nWho: Families with children \nWhat to Bring: \n\nDress for the weather\nReusable water bottle\nOptional: Your own gloves\n\nRegister by Clicking Here. \nWe will provide gloves and garbage bags. \nWe look forward to making a positive impact together! \n 
URL:https://naturekidsbc.ca/explorer-day/richmond-family-shoreline-cleanup/
CATEGORIES:Previous Events
ATTACH;FMTTYPE=image/png:https://eadn-wc02-5494031.nxedge.io/wp-content/uploads/2026/02/Explorer-Day-Tiles-for-website-10.png
END:VEVENT
BEGIN:VEVENT
DTSTART;TZID=America/Vancouver:20260221T130000
DTEND;TZID=America/Vancouver:20260221T150000
DTSTAMP:20260424T154113
CREATED:20260106T183438Z
LAST-MODIFIED:20260224T030748Z
UID:32910-1771678800-1771686000@naturekidsbc.ca
SUMMARY:HOUSTON - Bee Houses & Pollinators
DESCRIPTION:Bee Houses and Pollinators:  Time: 1:00 PM – 3:00 PM Date: Saturday\, February 21st Location: Buck Creek Canfor Fish Hatchery and Nature Center Join us for a fun\, hands-on afternoon celebrating pollinators! Families will have the chance to decorate mason bee houses and help build bug hotels using natural materials. Each family will create a small bug hotel to take home\, while we work together to build a large pollinator hotel that will stay at the Nature Center. Along the way\, we’ll learn about the important role pollinators play in our ecosystems\, including bees\, butterflies\, ladybugs\, and more. We’ll also chat about how to create pollinator-friendly gardens. To help continue the learning at home\, families will receive pollinator seed packets to plant in their own gardens. This is a great opportunity to get creative\, learn something new\, and support local wildlife—perfect for curious kids and their grown-ups!  For more information please email houston@naturekidsbc.ca
URL:https://naturekidsbc.ca/explorer-day/houston-bee-houses-pollinators/
CATEGORIES:Previous Events
ATTACH;FMTTYPE=image/png:https://eadn-wc02-5494031.nxedge.io/wp-content/uploads/2026/01/Explorer-Day-Tiles-for-website-3-1.png
END:VEVENT
BEGIN:VEVENT
DTSTART;TZID=America/Vancouver:20260221T130000
DTEND;TZID=America/Vancouver:20260221T150000
DTSTAMP:20260424T154113
CREATED:20260210T161442Z
LAST-MODIFIED:20260224T030854Z
UID:33095-1771678800-1771686000@naturekidsbc.ca
SUMMARY:WILLIAMS LAKE- Birds and Birdfeeders
DESCRIPTION:Participants will learn basic information about what makes a bird a bird\, different classifications\, identification/viewing of our winter birds this year through hands on specimens and outdoor observation. \nThe day will wrap up with building a take home birdfeeder for interested families. \nNote: Birdfeeder kits are limited so if this is something that your family is interested in please register at membership@williamslakefieldnaturalists.ca adding NatureKids in the subject line. \nAs a start to bringing back the NatureKids Club to Williams Lake a free family event is being offered at the Scout Island Nature House on February 21\, 2026. \nNatureKids is a free outdoor exploration club for children 5-12 years of age.
URL:https://naturekidsbc.ca/explorer-day/williams-lake-birds-and-birdfeeders/
CATEGORIES:Previous Events
ATTACH;FMTTYPE=image/jpeg:https://eadn-wc02-5494031.nxedge.io/wp-content/uploads/2026/02/Untitled-design-13-scaled.jpg
END:VEVENT
BEGIN:VEVENT
DTSTART;TZID=America/Vancouver:20260222T100000
DTEND;TZID=America/Vancouver:20260222T113000
DTSTAMP:20260424T154113
CREATED:20260106T180030Z
LAST-MODIFIED:20260224T030935Z
UID:32900-1771754400-1771759800@naturekidsbc.ca
SUMMARY:NORTH VANCOUVER - Build a Mason Bee a Home
DESCRIPTION:Build a Mason Bee a home \nDate: February 22nd\, 2026\nTime: 10am – 11.30am\nLocation: Picnic shelter at Heywood Park\, North Vancouver (map pin) – more information on shelter location and parking found here.\nLet’s help our Mason Bees by building them a home! The materials Mason Bees use for their ‘nests’ are in short supply so come and give them a helping hand. These docile bees are highly efficient and are major pollinators\, certainly one of the unsung heroes of our gardens. Some say one Mason Bee does the work of 500 Honey Bees! We will be building temporary boxes for our bees to safely lay their eggs and keep doing their extremely important work. A fun\, practical and worthwhile activity for all the family! \nClick here to register! 
URL:https://naturekidsbc.ca/explorer-day/north-vancouver-build-a-mason-bee-a-home/
CATEGORIES:Previous Events
ATTACH;FMTTYPE=image/png:https://eadn-wc02-5494031.nxedge.io/wp-content/uploads/2026/01/Explorer-Day-Tiles-for-website-3.png
END:VEVENT
BEGIN:VEVENT
DTSTART;TZID=America/Vancouver:20260223T120000
DTEND;TZID=America/Vancouver:20260223T140000
DTSTAMP:20260424T154113
CREATED:20260206T022035Z
LAST-MODIFIED:20260224T031036Z
UID:33077-1771848000-1771855200@naturekidsbc.ca
SUMMARY:DELTA\, WildRoots Home Learners Club - OWL (Orphaned Wildlife) Rehabilitation Society
DESCRIPTION:Come and explore the OWL (Orphaned Wildlife) Rehabilitation Society\, a non-profit society that specializes in the care of raptors. This group includes eagles\, falcons\, hawks\, ospreys\, owls\, and vultures. Learn how they rescue\, rehabilitate\, and release sick\, injured\, or orphaned raptors. \nRSVP today \nDate: Monday\, February 23\, 2026 \nTime: 12:15pm – 2:00pm (check-in at 12:10pm) \nLocation: 3800-72nd Street\, Unit 3\, Delta\, on the traditional\, ancestral\, and unceded territory of the scəw̓aθən (Tsawwassen)\, xʷməθkʷəy̓əm (Musqueam)\, and other Coast Salish Peoples. \nNOTE: The program is held rain or shine so ensure everyone is dressed for the weather. There is a 60 minute indoor program followed by a 30 minute outdoor tour. \nNOTE: The program is held rain or shine so ensure everyone is dressed for the weather. There is a 60 minute indoor program followed by a 30 minute outdoor tour. \nIMPORTANT: For safety reasons\, no baby/toddler siblings can be brought into the program; the minimum age for this activity is Grade 1. \nAccessibility: Location is accessible by transit and car with a parking lot. The OWL society has a paved tour path and is wheelchair accessible! Please message me if you have questions or concerns. \n*Registration is limited and available on a first come\, first serve basis. If you can no longer attend\, please email us ASAP so another family can attend. Thank you!
URL:https://naturekidsbc.ca/explorer-day/delta-wildroots-home-learners-club-owl-orphaned-wildlife-rehabilitation-society/
LOCATION:3800-72nd Street\, Unit 3\, Delta\, 3800 72 St\, Delta\, BC\, V4K 3N2
CATEGORIES:Previous Events
ATTACH;FMTTYPE=image/png:https://eadn-wc02-5494031.nxedge.io/wp-content/uploads/2026/02/Explorer-Day-Tiles-for-website-6.png
END:VEVENT
BEGIN:VEVENT
DTSTART;TZID=America/Vancouver:20260228T110000
DTEND;TZID=America/Vancouver:20260228T123000
DTSTAMP:20260424T154113
CREATED:20260206T022805Z
LAST-MODIFIED:20260305T005026Z
UID:33085-1772276400-1772281800@naturekidsbc.ca
SUMMARY:KELOWNA-  Evergreen Identifications and Pinecone Feeders
DESCRIPTION:Join us for a fun and educational Nature Kids BC Explorer Day focused on Evergreens and Winter Bird Survival!  \nThis family-friendly event will begin at City Park\, where participants will take part in a short welcome activity and learn how birds survive during the colder months. We’ll explore how evergreen trees provide shelter for birds and practice identifying pine\, fir\, and spruce trees while discussing why feeders can help birds when natural food sources are limited. \nAfter our outdoor exploration\, we will walk together to the Kelowna Library\, enjoying some light nature observation along the way. At the library\, participants will build their own pinecone bird feeders. Kids will learn about what birds eat\, why high-energy foods are important in winter\, and how they can support local bird populations at home. We will finish with a short group wrap-up where participants can share what they learned and get ideas for observing birds in their own neighbourhoods. \n\nPlease dress for the weather and wear comfortable walking shoes. We look forward to exploring winter wildlife with you!
URL:https://naturekidsbc.ca/explorer-day/kelowna-evergreen-identifications-and-pinecone-feeders/
CATEGORIES:Previous Events
ATTACH;FMTTYPE=image/png:https://eadn-wc02-5494031.nxedge.io/wp-content/uploads/2026/02/Explorer-Day-Tiles-for-website-5.png
END:VEVENT
BEGIN:VEVENT
DTSTART;TZID=America/Vancouver:20260228T140000
DTEND;TZID=America/Vancouver:20260228T160000
DTSTAMP:20260424T154113
CREATED:20260211T202914Z
LAST-MODIFIED:20260305T005109Z
UID:33113-1772287200-1772294400@naturekidsbc.ca
SUMMARY:MISSION- Wilbrand Creek BioBlitz!
DESCRIPTION:With help from our friends at Abbotsford Mission Nature Club we will have a chance to observe\, identify and record fungi\, plants\, and animals in Willband Creek Park off Bateman Road in Abbotsford. \nInstall the free iNaturalist application on your mobile phone\, create an account and join the project\, called “Biodiversity in Willband Creek Park Bioblitz 2026\, Abbotsford\, BC” \nBring any of the following items if you have them: binoculars\, spotting scope and camera. \nDress for the weather.  Bring a snack and water. \nSign up here to register!
URL:https://naturekidsbc.ca/explorer-day/wilbrand-creek-bioblitz/
CATEGORIES:Previous Events
ATTACH;FMTTYPE=image/png:https://eadn-wc02-5494031.nxedge.io/wp-content/uploads/2026/02/Explorer-Day-Tiles-for-website-8.png
END:VEVENT
END:VCALENDAR